BEGIN:VCALENDAR
VERSION:2.0
PRODID:-//eventon.com NONSGML v1.0//EN
CALSCALE:GREGORIAN
METHOD:PUBLISH
BEGIN:VEVENT
UID:69e5e36972ecf
DTSTAMP:20260420T082721Z
DTSTART:20241020T180000Z
DTEND:20241020T193000Z
LOCATION:
SUMMARY:Towards a New Grammar of Justice: John Swanson Jacob’s Autobiography as a Spectacular Performance of Freedom
DESCRIPTION:John Swanson Jacobs’s remarkable 1855 autobiographical slave 
 narrative\,  The United States Governed by Six Hundred Thousand Despots\,  
 was lost until it &nbsp;was found in 2016 in an Australian archive.&nbsp; W
 riting from the other side of the world\,  beyond the reach of American law
  and humanitarian authority\,  John Jacobs—brother of Harriet[..]\nhttps:
 //irvingtonhistoricalsociety.org/events/towards-a-new-grammar-of-justice-jo
 hn-swanson-jacobs-autobiography-as-a-spectacular-performance-of-freedom/
URL:https://irvingtonhistoricalsociety.org/events/towards-a-new-grammar-of-justice-john-swanson-jacobs-autobiography-as-a-spectacular-performance-of-freedom/
END:VEVENT
END:VCALENDAR