BEGIN:VCALENDAR
VERSION:2.0
PRODID:-//eventon.com NONSGML v1.0//EN
CALSCALE:GREGORIAN
METHOD:PUBLISH
BEGIN:VEVENT
UID:69e5e48248375
DTSTAMP:20260420T083202Z
DTSTART:20211006
DTEND:20211007
LOCATION:Irvington Public Library 12 South Astor Street
SUMMARY:Legacy Exhibit at Martucci Gallery\,  Irvington Public Library
DESCRIPTION:Betsy Thorndike Wilson will be one of this year’s twelve part
 icipants in the Legacy Project.&nbsp; Each of this year&#8217;s Legacy part
 icipants will be highlighted in this Exhibit of photographs and stories at 
 the Martucci Gallery\,  Irvington Public Library. The Exhibit will open to 
 the public during the first week in[..]\nhttps://irvingtonhistoricalsociety
 .org/events/legacy-panel-exhibit-at-martucci-gallery-irvington-public-libra
 ry/
URL:https://irvingtonhistoricalsociety.org/events/legacy-panel-exhibit-at-martucci-gallery-irvington-public-library/
END:VEVENT
END:VCALENDAR